Package: fCI Version: 1.39.0 Command: /home/biocbuild/bbs-3.22-bioc/R/bin/R CMD INSTALL fCI StartedAt: 2025-09-29 15:06:15 -0400 (Mon, 29 Sep 2025) EndedAt: 2025-09-29 15:06:51 -0400 (Mon, 29 Sep 2025) EllapsedTime: 35.9 seconds RetCode: 0 Status: OK