Package: fCI Version: 1.37.0 Command: /Library/Frameworks/R.framework/Resources/bin/R CMD INSTALL fCI StartedAt: 2025-02-02 15:23:14 -0500 (Sun, 02 Feb 2025) EndedAt: 2025-02-02 15:23:23 -0500 (Sun, 02 Feb 2025) EllapsedTime: 8.9 seconds RetCode: 0 Status: OK