Package: fCI Version: 1.37.0 Command: /Library/Frameworks/R.framework/Resources/bin/R CMD check --install=check:fCI.install-out.txt --library=/Library/Frameworks/R.framework/Resources/library --no-vignettes --timings fCI_1.37.0.tar.gz StartedAt: 2025-02-02 20:23:17 -0500 (Sun, 02 Feb 2025) EndedAt: 2025-02-02 20:24:14 -0500 (Sun, 02 Feb 2025) EllapsedTime: 57.5 seconds RetCode: 0 Status: OK CheckDir: fCI.Rcheck Warnings: 0