Package: fCI Version: 1.37.0 Command: rm -rf fCI.buildbin-libdir && mkdir fCI.buildbin-libdir && /Users/biocbuild/BBS/utils/build-universal.sh fCI_1.37.0.tar.gz /Library/Frameworks/R.framework/Resources/bin/R fCI.buildbin-libdir StartedAt: 2025-02-03 00:23:12 -0500 (Mon, 03 Feb 2025) EndedAt: 2025-02-03 00:23:22 -0500 (Mon, 03 Feb 2025) EllapsedTime: 10.4 seconds RetCode: 0 Status: OK PackageFile: fCI_1.37.0.tgz PackageFileSize: 1.55 MiB