Package: fCI Version: 1.39.0 Command: /Library/Frameworks/R.framework/Resources/bin/R CMD INSTALL fCI StartedAt: 2025-05-01 15:03:47 -0400 (Thu, 01 May 2025) EndedAt: 2025-05-01 15:04:11 -0400 (Thu, 01 May 2025) EllapsedTime: 23.9 seconds RetCode: 0 Status: OK