Package: fCI Version: 1.39.0 Command: rm -rf fCI.buildbin-libdir && mkdir fCI.buildbin-libdir && /Users/biocbuild/BBS/utils/build-universal.sh fCI_1.39.0.tar.gz /Library/Frameworks/R.framework/Resources/bin/R fCI.buildbin-libdir StartedAt: 2025-05-02 22:37:48 -0400 (Fri, 02 May 2025) EndedAt: 2025-05-02 22:37:51 -0400 (Fri, 02 May 2025) EllapsedTime: 3.1 seconds RetCode: 0 Status: OK PackageFile: fCI_1.39.0.tgz PackageFileSize: 1.551 MiB