Package: fCCAC Version: 1.35.0 Command: /home/biocbuild/bbs-3.22-bioc/R/bin/R CMD INSTALL fCCAC StartedAt: 2025-10-01 15:36:07 -0400 (Wed, 01 Oct 2025) EndedAt: 2025-10-01 15:36:55 -0400 (Wed, 01 Oct 2025) EllapsedTime: 47.6 seconds RetCode: 0 Status: OK