Package: extraChIPs Version: 1.13.2 Command: chmod a+r extraChIPs -R && F:\biocbuild\bbs-3.22-bioc\R\bin\R.exe CMD build --keep-empty-dirs --no-resave-data extraChIPs StartedAt: 2025-08-14 20:06:46 -0400 (Thu, 14 Aug 2025) EndedAt: 2025-08-14 20:09:09 -0400 (Thu, 14 Aug 2025) EllapsedTime: 143.3 seconds RetCode: 0 Status: OK PackageFile: extraChIPs_1.13.2.tar.gz PackageFileSize: 3.308 MiB