Package: extraChIPs Version: 1.11.0 Command: E:\biocbuild\bbs-3.21-bioc\R\bin\R.exe CMD INSTALL extraChIPs StartedAt: 2025-02-16 16:31:01 -0500 (Sun, 16 Feb 2025) EndedAt: 2025-02-16 16:32:47 -0500 (Sun, 16 Feb 2025) EllapsedTime: 106.3 seconds RetCode: 0 Status: OK