Package: extraChIPs Version: 1.11.0 Command: chmod a+r extraChIPs -R && E:\biocbuild\bbs-3.21-bioc\R\bin\R.exe CMD build --keep-empty-dirs --no-resave-data extraChIPs StartedAt: 2025-02-16 18:33:35 -0500 (Sun, 16 Feb 2025) EndedAt: 2025-02-16 18:36:46 -0500 (Sun, 16 Feb 2025) EllapsedTime: 190.8 seconds RetCode: 0 Status: OK PackageFile: extraChIPs_1.11.0.tar.gz PackageFileSize: 3.366 MiB