Package: extraChIPs Version: 1.11.0 Command: rm -rf extraChIPs.buildbin-libdir && mkdir extraChIPs.buildbin-libdir && E:\biocbuild\bbs-3.21-bioc\R\bin\R.exe CMD INSTALL --build --library=extraChIPs.buildbin-libdir extraChIPs_1.11.0.tar.gz StartedAt: 2025-02-17 07:31:16 -0500 (Mon, 17 Feb 2025) EndedAt: 2025-02-17 07:33:09 -0500 (Mon, 17 Feb 2025) EllapsedTime: 113.6 seconds RetCode: 0 Status: OK PackageFile: extraChIPs_1.11.0.zip PackageFileSize: 2.284 MiB