Package: extraChIPs Version: 1.11.0 Command: /Library/Frameworks/R.framework/Resources/bin/R CMD build --keep-empty-dirs --no-resave-data extraChIPs StartedAt: 2025-02-16 16:36:57 -0500 (Sun, 16 Feb 2025) EndedAt: 2025-02-16 16:39:07 -0500 (Sun, 16 Feb 2025) EllapsedTime: 130.4 seconds RetCode: 0 Status: OK PackageFile: extraChIPs_1.11.0.tar.gz PackageFileSize: 3.823 MiB