Package: extraChIPs Version: 1.13.0 Maintainer: Stevie Pederson MaintainerEmail: stephen.pederson.au at gmail.com git_url: https://git.bioconductor.org/packages/extraChIPs git_branch: devel git_last_commit: 56d2081 git_last_commit_date: 2025-04-15 12:50:15 -0400 (Tue, 15 Apr 2025)