Package: evaluomeR Version: 1.25.0 Command: chmod a+r evaluomeR -R && F:\biocbuild\bbs-3.22-bioc\R\bin\R.exe CMD build --keep-empty-dirs --no-resave-data evaluomeR StartedAt: 2025-08-14 20:04:19 -0400 (Thu, 14 Aug 2025) EndedAt: 2025-08-14 20:06:00 -0400 (Thu, 14 Aug 2025) EllapsedTime: 101.3 seconds RetCode: 0 Status: OK PackageFile: evaluomeR_1.25.0.tar.gz PackageFileSize: 871.2 KiB