Package: evaluomeR Version: 1.23.0 Command: /home/biocbuild/bbs-3.21-bioc/R/bin/R CMD INSTALL evaluomeR StartedAt: 2025-02-18 15:30:23 -0500 (Tue, 18 Feb 2025) EndedAt: 2025-02-18 15:31:02 -0500 (Tue, 18 Feb 2025) EllapsedTime: 39.3 seconds RetCode: 0 Status: OK