Package: esetVis Version: 1.33.0 Command: E:\biocbuild\bbs-3.21-bioc\R\bin\R.exe CMD INSTALL esetVis StartedAt: 2025-02-05 15:49:54 -0500 (Wed, 05 Feb 2025) EndedAt: 2025-02-05 15:50:25 -0500 (Wed, 05 Feb 2025) EllapsedTime: 30.4 seconds RetCode: 0 Status: OK