Package: esetVis Version: 1.33.0 Command: rm -rf esetVis.buildbin-libdir && mkdir esetVis.buildbin-libdir && E:\biocbuild\bbs-3.21-bioc\R\bin\R.exe CMD INSTALL --build --library=esetVis.buildbin-libdir esetVis_1.33.0.tar.gz StartedAt: 2025-02-06 08:01:02 -0500 (Thu, 06 Feb 2025) EndedAt: 2025-02-06 08:01:33 -0500 (Thu, 06 Feb 2025) EllapsedTime: 31.7 seconds RetCode: 0 Status: OK PackageFile: esetVis_1.33.0.zip PackageFileSize: 2.766 MiB