Package: esetVis Version: 1.33.0 Command: /Library/Frameworks/R.framework/Resources/bin/R CMD INSTALL esetVis StartedAt: 2025-02-05 15:09:25 -0500 (Wed, 05 Feb 2025) EndedAt: 2025-02-05 15:09:31 -0500 (Wed, 05 Feb 2025) EllapsedTime: 6.0 seconds RetCode: 0 Status: OK