Package: esetVis Version: 1.35.0 Command: /Library/Frameworks/R.framework/Resources/bin/R CMD check --install=check:esetVis.install-out.txt --library=/Library/Frameworks/R.framework/Resources/library --no-vignettes --timings esetVis_1.35.0.tar.gz StartedAt: 2025-04-27 19:12:36 -0400 (Sun, 27 Apr 2025) EndedAt: 2025-04-27 19:13:45 -0400 (Sun, 27 Apr 2025) EllapsedTime: 68.9 seconds RetCode: 0 Status: OK CheckDir: esetVis.Rcheck Warnings: 0