Package: esetVis Version: 1.35.0 Command: /Library/Frameworks/R.framework/Resources/bin/R CMD build --keep-empty-dirs --no-resave-data esetVis StartedAt: 2025-04-27 16:16:38 -0400 (Sun, 27 Apr 2025) EndedAt: 2025-04-27 16:17:18 -0400 (Sun, 27 Apr 2025) EllapsedTime: 39.4 seconds RetCode: 0 Status: OK PackageFile: esetVis_1.35.0.tar.gz PackageFileSize: 4.336 MiB