Package: escheR Version: 1.9.0 Command: /home/biocbuild/R/R/bin/R CMD build --keep-empty-dirs --no-resave-data escheR StartedAt: 2025-09-29 23:53:46 -0000 (Mon, 29 Sep 2025) EndedAt: 2025-09-29 23:57:40 -0000 (Mon, 29 Sep 2025) EllapsedTime: 234.2 seconds RetCode: 0 Status: OK PackageFile: escheR_1.9.0.tar.gz PackageFileSize: 1.359 MiB