Package: escheR Version: 1.9.0 Command: /Library/Frameworks/R.framework/Resources/bin/R CMD check --install=check:escheR.install-out.txt --library=/Library/Frameworks/R.framework/Resources/library --no-vignettes --timings escheR_1.9.0.tar.gz StartedAt: 2025-05-07 19:29:33 -0400 (Wed, 07 May 2025) EndedAt: 2025-05-07 19:31:03 -0400 (Wed, 07 May 2025) EllapsedTime: 90.1 seconds RetCode: 0 Status: OK CheckDir: escheR.Rcheck Warnings: 0