Package: escheR Version: 1.9.0 Command: rm -rf escheR.buildbin-libdir && mkdir escheR.buildbin-libdir && /Users/biocbuild/BBS/utils/build-universal.sh escheR_1.9.0.tar.gz /Library/Frameworks/R.framework/Resources/bin/R escheR.buildbin-libdir StartedAt: 2025-05-07 22:54:40 -0400 (Wed, 07 May 2025) EndedAt: 2025-05-07 22:54:53 -0400 (Wed, 07 May 2025) EllapsedTime: 13.3 seconds RetCode: 0 Status: OK PackageFile: escheR_1.9.0.tgz PackageFileSize: 3.562 MiB