Package: escape Version: 2.5.5 Command: /home/biocbuild/bbs-3.22-bioc/R/bin/R CMD INSTALL escape StartedAt: 2025-10-17 15:17:16 -0400 (Fri, 17 Oct 2025) EndedAt: 2025-10-17 15:17:40 -0400 (Fri, 17 Oct 2025) EllapsedTime: 23.5 seconds RetCode: 0 Status: OK