Package: escape Version: 2.3.0 Command: /Library/Frameworks/R.framework/Resources/bin/R CMD INSTALL escape StartedAt: 2025-02-03 15:44:31 -0500 (Mon, 03 Feb 2025) EndedAt: 2025-02-03 15:45:29 -0500 (Mon, 03 Feb 2025) EllapsedTime: 57.3 seconds RetCode: 0 Status: OK