Package: escape Version: 2.3.0 Command: /home/biocbuild/R/R/bin/R CMD build --keep-empty-dirs --no-resave-data escape StartedAt: 2025-01-28 22:48:31 -0000 (Tue, 28 Jan 2025) EndedAt: 2025-01-28 22:50:34 -0000 (Tue, 28 Jan 2025) EllapsedTime: 123.1 seconds RetCode: 0 Status: OK PackageFile: escape_2.3.0.tar.gz PackageFileSize: 3.214 MiB