Package: esATAC Version: 1.31.1 Command: chmod a+r esATAC -R && F:\biocbuild\bbs-3.22-bioc\R\bin\R.exe CMD build --keep-empty-dirs --no-resave-data esATAC StartedAt: 2025-08-14 20:02:54 -0400 (Thu, 14 Aug 2025) EndedAt: 2025-08-14 20:05:00 -0400 (Thu, 14 Aug 2025) EllapsedTime: 125.7 seconds RetCode: 0 Status: OK PackageFile: esATAC_1.31.1.tar.gz PackageFileSize: 9.863 MiB