Package: esATAC Version: 1.29.0 Command: E:\biocbuild\bbs-3.21-bioc\R\bin\R.exe CMD check --no-multiarch --install=check:esATAC.install-out.txt --library=E:\biocbuild\bbs-3.21-bioc\R\library --no-vignettes --timings esATAC_1.29.0.tar.gz StartedAt: 2025-02-04 01:24:06 -0500 (Tue, 04 Feb 2025) EndedAt: 2025-02-04 01:34:04 -0500 (Tue, 04 Feb 2025) EllapsedTime: 598.0 seconds RetCode: 0 Status: OK CheckDir: esATAC.Rcheck Warnings: 0