############################################################################## ############################################################################## ### ### Running command: ### ### E:\biocbuild\bbs-3.21-bioc\R\bin\R.exe CMD check --no-multiarch --install=check:esATAC.install-out.txt --library=E:\biocbuild\bbs-3.21-bioc\R\library --no-vignettes --timings esATAC_1.29.0.tar.gz ### ############################################################################## ############################################################################## * using log directory 'E:/biocbuild/bbs-3.21-bioc/meat/esATAC.Rcheck' * using R Under development (unstable) (2025-01-21 r87610 ucrt) * using platform: x86_64-w64-mingw32 * R was compiled by gcc.exe (GCC) 13.3.0 GNU Fortran (GCC) 13.3.0 * running under: Windows Server 2022 x64 (build 20348) * using session charset: UTF-8 * using option '--no-vignettes' * checking for file 'esATAC/DESCRIPTION' ... OK * checking extension type ... Package * this is package 'esATAC' version '1.29.0' * package encoding: UTF-8 * checking package namespace information ... OK * checking package dependencies ... OK * checking if this is a source package ... OK * checking if there is a namespace ... OK * checking for hidden files and directories ... OK * checking for portable file names ... OK * checking whether package 'esATAC' can be installed ... OK * used C++ compiler: 'G__~1.EXE (GCC) 13.3.0' * checking C++ specification ... NOTE Specified C++11: please drop specification unless essential * checking installed package size ... INFO installed size is 7.4Mb sub-directories of 1Mb or more: extdata 5.1Mb libs 1.3Mb * checking package directory ... OK * checking 'build' directory ... OK * checking DESCRIPTION meta-information ... OK * checking top-level files ... OK * checking for left-over files ... OK * checking index information ... OK * checking package subdirectories ... OK * checking code files for non-ASCII characters ... OK * checking R files for syntax errors ... OK * checking whether the package can be loaded ... OK * checking whether the package can be loaded with stated dependencies ... OK * checking whether the package can be unloaded cleanly ... OK * checking whether the namespace can be loaded with stated dependencies ... OK * checking whether the namespace can be unloaded cleanly ... OK * checking whether startup messages can be suppressed ... OK * checking dependencies in R code ... NOTE Unexported objects imported by ':::' calls: 'ShortRead:::.ShortReadQQA' 'ShortRead:::.qa_adapterContamination' See the note in ?`:::` about the use of this operator. * checking S3 generic/method consistency ... OK * checking replacement functions ... OK * checking foreign function calls ... OK * checking R code for possible problems ... NOTE atacPipe2: no visible global function definition for 'getObjsInPipe' atacPipe2: no visible binding for global variable 'case.peak' atacPipe2: no visible binding for global variable 'ctrl.peak' atacPipe2: no visible binding for global variable 'pwm' atacPipe2: no visible binding for global variable 'bed.case' atacPipe2: no visible binding for global variable 'bed.ctrl' atacPipe2: no visible binding for global variable 'caselist' atacPipe2: no visible binding for global variable 'ctrllist' atacPipe2: no visible global function definition for '.obtainConfigure' atacPipe2: no visible binding for global variable 'param.tmp' atacPipe2: no visible binding for global variable 'esATAC_report' atacPipe2: no visible global function definition for 'getReportVal' atacPipe2: no visible binding for global variable 'esATAC_result' processing,BamToBed : : no visible global function definition for 'readGAlignments' processing,BedToBigWig: no visible binding for global variable 'score' Undefined global functions or variables: .obtainConfigure bed.case bed.ctrl case.peak caselist ctrl.peak ctrllist esATAC_report esATAC_result getObjsInPipe getReportVal param.tmp pwm readGAlignments score * checking Rd files ... OK * checking Rd metadata ... OK * checking Rd cross-references ... NOTE Found the following Rd file(s) with Rd \link{} targets missing package anchors: Bowtie2Mapping.Rd: bowtie2, bowtie2_build, bowtie2_usage RMotifScan.Rd: GRanges, getRefRc, PFMatrix, PFMatrixList, PWMatrix, PWMatrixList RMotifScanPair.Rd: getRefRc, PFMatrix, PFMatrixList, PWMatrix, PWMatrixList RPeakAnno.Rd: annotatePeak, GRanges RPeakComp.Rd: GRanges SingleRepReport.Rd: Step-class atacPipe2.Rd: PFMatrix, PFMatrixList, PWMatrix, PWMatrixList atacRepsPipe.Rd: PFMatrix, PFMatrixList, PWMatrix, PWMatrixList, printMap atacRepsPipe2.Rd: PFMatrix, PFMatrixList, PWMatrix, PWMatrixList esATAC-package.Rd: PFMatrix, PFMatrixList, PWMatrix, PWMatrixList, printMap getMotifInfo.Rd: PFMatrix, PFMatrixList Please provide package anchors for all Rd \link{} targets not in the package itself and the base packages. * checking for missing documentation entries ... OK * checking for code/documentation mismatches ... OK * checking Rd \usage sections ... OK * checking Rd contents ... OK * checking for unstated dependencies in examples ... OK * checking line endings in C/C++/Fortran sources/headers ... OK * checking line endings in Makefiles ... OK * checking compilation flags in Makevars ... OK * checking for GNU extensions in Makefiles ... OK * checking for portable use of $(BLAS_LIBS) and $(LAPACK_LIBS) ... OK * checking use of PKG_*FLAGS in Makefiles ... OK * checking compiled code ... NOTE Note: information on .o files for x64 is not available File 'E:/biocbuild/bbs-3.21-bioc/R/library/esATAC/libs/x64/esATAC.dll': Found '_exit', possibly from '_exit' (C) Found 'abort', possibly from 'abort' (C), 'runtime' (Fortran) Found 'exit', possibly from 'exit' (C), 'stop' (Fortran) Compiled code should not call entry points which might terminate R nor write to stdout/stderr instead of to the console, nor use Fortran I/O nor system RNGs nor [v]sprintf. The detected symbols are linked into the code but might come from libraries and not actually be called. See 'Writing portable packages' in the 'Writing R Extensions' manual. * checking files in 'vignettes' ... OK * checking examples ... OK Examples with CPU (user + system) or elapsed time > 5s user system elapsed FindAdapter 0.60 0.23 46.34 Renamer 0.48 0.13 25.70 * checking for unstated dependencies in 'tests' ... OK * checking tests ... Running 'testthat.R' OK * checking for unstated dependencies in vignettes ... OK * checking package vignettes ... OK * checking running R code from vignettes ... SKIPPED * checking re-building of vignette outputs ... SKIPPED * checking PDF version of manual ... OK * DONE Status: 5 NOTEs See 'E:/biocbuild/bbs-3.21-bioc/meat/esATAC.Rcheck/00check.log' for details.