Package: esATAC Version: 1.29.0 Command: rm -rf esATAC.buildbin-libdir && mkdir esATAC.buildbin-libdir && E:\biocbuild\bbs-3.21-bioc\R\bin\R.exe CMD INSTALL --build --library=esATAC.buildbin-libdir esATAC_1.29.0.tar.gz StartedAt: 2025-02-04 07:57:05 -0500 (Tue, 04 Feb 2025) EndedAt: 2025-02-04 07:59:41 -0500 (Tue, 04 Feb 2025) EllapsedTime: 156.5 seconds RetCode: 0 Status: OK PackageFile: esATAC_1.29.0.zip PackageFileSize: 8.526 MiB