Package: esATAC Version: 1.31.1 Command: /home/biocbuild/bbs-3.22-bioc/R/bin/R CMD INSTALL esATAC StartedAt: 2025-10-15 16:05:42 -0400 (Wed, 15 Oct 2025) EndedAt: 2025-10-15 16:07:41 -0400 (Wed, 15 Oct 2025) EllapsedTime: 118.8 seconds RetCode: 0 Status: OK