Package: esATAC Version: 1.31.1 Command: /home/biocbuild/bbs-3.22-bioc/R/bin/R CMD build --keep-empty-dirs --no-resave-data --md5 esATAC StartedAt: 2025-10-14 17:34:17 -0400 (Tue, 14 Oct 2025) EndedAt: 2025-10-14 17:35:43 -0400 (Tue, 14 Oct 2025) EllapsedTime: 86.1 seconds RetCode: 0 Status: OK PackageFile: esATAC_1.31.1.tar.gz PackageFileSize: 9.868 MiB