Package: esATAC Version: 1.29.0 Command: /home/biocbuild/bbs-3.21-bioc/R/bin/R CMD INSTALL esATAC StartedAt: 2025-02-14 15:56:15 -0500 (Fri, 14 Feb 2025) EndedAt: 2025-02-14 15:57:41 -0500 (Fri, 14 Feb 2025) EllapsedTime: 86.0 seconds RetCode: 0 Status: OK