Package: erccdashboard Version: 1.43.0 Command: chmod a+r erccdashboard -R && F:\biocbuild\bbs-3.22-bioc\R\bin\R.exe CMD build --keep-empty-dirs --no-resave-data erccdashboard StartedAt: 2025-08-14 20:02:47 -0400 (Thu, 14 Aug 2025) EndedAt: 2025-08-14 20:14:57 -0400 (Thu, 14 Aug 2025) EllapsedTime: 729.3 seconds RetCode: 0 Status: OK PackageFile: erccdashboard_1.43.0.tar.gz PackageFileSize: 1.676 MiB