Package: erccdashboard Version: 1.43.0 Command: rm -rf erccdashboard.buildbin-libdir && mkdir erccdashboard.buildbin-libdir && F:\biocbuild\bbs-3.22-bioc\R\bin\R.exe CMD INSTALL --build --library=erccdashboard.buildbin-libdir erccdashboard_1.43.0.tar.gz StartedAt: 2025-08-15 10:14:44 -0400 (Fri, 15 Aug 2025) EndedAt: 2025-08-15 10:15:09 -0400 (Fri, 15 Aug 2025) EllapsedTime: 25.4 seconds RetCode: 0 Status: OK PackageFile: erccdashboard_1.43.0.zip PackageFileSize: 2.211 MiB