Package: epivizrStandalone Version: 1.37.1 Command: F:\biocbuild\bbs-3.22-bioc\R\bin\R.exe CMD INSTALL epivizrStandalone StartedAt: 2025-08-14 16:43:32 -0400 (Thu, 14 Aug 2025) EndedAt: 2025-08-14 16:44:28 -0400 (Thu, 14 Aug 2025) EllapsedTime: 56.1 seconds RetCode: 0 Status: OK