Package: epivizrStandalone Version: 1.35.0 Command: E:\biocbuild\bbs-3.21-bioc\R\bin\R.exe CMD INSTALL epivizrStandalone StartedAt: 2025-02-02 16:23:29 -0500 (Sun, 02 Feb 2025) EndedAt: 2025-02-02 16:24:23 -0500 (Sun, 02 Feb 2025) EllapsedTime: 53.9 seconds RetCode: 0 Status: OK