Package: epivizrStandalone Version: 1.35.0 Command: /home/biocbuild/bbs-3.21-bioc/R/bin/R CMD check --install=check:epivizrStandalone.install-out.txt --library=/home/biocbuild/bbs-3.21-bioc/R/site-library --timings epivizrStandalone_1.35.0.tar.gz StartedAt: 2025-02-09 22:08:20 -0500 (Sun, 09 Feb 2025) EndedAt: 2025-02-09 22:14:27 -0500 (Sun, 09 Feb 2025) EllapsedTime: 366.5 seconds RetCode: 0 Status: WARNINGS CheckDir: epivizrStandalone.Rcheck Warnings: 2