Package: epivizrStandalone Version: 1.35.0 Command: /Library/Frameworks/R.framework/Resources/bin/R CMD check --install=check:epivizrStandalone.install-out.txt --library=/Library/Frameworks/R.framework/Resources/library --no-vignettes --timings epivizrStandalone_1.35.0.tar.gz StartedAt: 2025-02-05 20:22:16 -0500 (Wed, 05 Feb 2025) EndedAt: 2025-02-05 20:28:27 -0500 (Wed, 05 Feb 2025) EllapsedTime: 371.6 seconds RetCode: 0 Status: WARNINGS CheckDir: epivizrStandalone.Rcheck Warnings: 2