Package: epivizrStandalone Version: 1.35.0 Command: /Library/Frameworks/R.framework/Resources/bin/R CMD build --keep-empty-dirs --no-resave-data epivizrStandalone StartedAt: 2025-02-05 16:38:27 -0500 (Wed, 05 Feb 2025) EndedAt: 2025-02-05 16:39:12 -0500 (Wed, 05 Feb 2025) EllapsedTime: 44.5 seconds RetCode: 0 Status: OK PackageFile: epivizrStandalone_1.35.0.tar.gz PackageFileSize: 220 KiB