Package: epivizrStandalone Version: 1.37.0 Command: rm -rf epivizrStandalone.buildbin-libdir && mkdir epivizrStandalone.buildbin-libdir && /Users/biocbuild/BBS/utils/build-universal.sh epivizrStandalone_1.37.0.tar.gz /Library/Frameworks/R.framework/Resources/bin/R epivizrStandalone.buildbin-libdir StartedAt: 2025-05-01 00:40:33 -0400 (Thu, 01 May 2025) EndedAt: 2025-05-01 00:41:33 -0400 (Thu, 01 May 2025) EllapsedTime: 60.0 seconds RetCode: 0 Status: OK PackageFile: epivizrStandalone_1.37.0.tgz PackageFileSize: 250.4 KiB