Package: epivizrStandalone Version: 1.35.0 Command: /Library/Frameworks/R.framework/Resources/bin/R CMD INSTALL epivizrStandalone StartedAt: 2025-02-05 15:15:37 -0500 (Wed, 05 Feb 2025) EndedAt: 2025-02-05 15:15:54 -0500 (Wed, 05 Feb 2025) EllapsedTime: 17.4 seconds RetCode: 0 Status: OK