Package: epivizrStandalone Version: 1.37.0 Command: /Library/Frameworks/R.framework/Resources/bin/R CMD build --keep-empty-dirs --no-resave-data epivizrStandalone StartedAt: 2025-05-01 16:17:12 -0400 (Thu, 01 May 2025) EndedAt: 2025-05-01 16:17:32 -0400 (Thu, 01 May 2025) EllapsedTime: 20.2 seconds RetCode: 0 Status: OK PackageFile: epivizrStandalone_1.37.0.tar.gz PackageFileSize: 270.1 KiB