Package: epivizrServer Version: 1.35.0 Command: rm -rf epivizrServer.buildbin-libdir && mkdir epivizrServer.buildbin-libdir && E:\biocbuild\bbs-3.21-bioc\R\bin\R.exe CMD INSTALL --build --library=epivizrServer.buildbin-libdir epivizrServer_1.35.0.tar.gz StartedAt: 2025-02-06 08:00:24 -0500 (Thu, 06 Feb 2025) EndedAt: 2025-02-06 08:01:02 -0500 (Thu, 06 Feb 2025) EllapsedTime: 37.7 seconds RetCode: 0 Status: OK PackageFile: epivizrServer_1.35.0.zip PackageFileSize: 459.3 KiB