Package: epivizrServer Version: 1.37.0 Command: /home/biocbuild/bbs-3.22-bioc/R/bin/R CMD INSTALL epivizrServer StartedAt: 2025-10-13 15:06:35 -0400 (Mon, 13 Oct 2025) EndedAt: 2025-10-13 15:06:48 -0400 (Mon, 13 Oct 2025) EllapsedTime: 12.3 seconds RetCode: 0 Status: OK