Package: epivizrServer Version: 1.35.0 Command: /home/biocbuild/bbs-3.21-bioc/R/bin/R CMD INSTALL epivizrServer StartedAt: 2025-02-05 15:04:22 -0500 (Wed, 05 Feb 2025) EndedAt: 2025-02-05 15:04:34 -0500 (Wed, 05 Feb 2025) EllapsedTime: 12.2 seconds RetCode: 0 Status: OK