Package: epivizrServer Version: 1.35.0 Command: /Library/Frameworks/R.framework/Resources/bin/R CMD check --install=check:epivizrServer.install-out.txt --library=/Library/Frameworks/R.framework/Resources/library --no-vignettes --timings epivizrServer_1.35.0.tar.gz StartedAt: 2025-02-05 20:21:44 -0500 (Wed, 05 Feb 2025) EndedAt: 2025-02-05 20:22:16 -0500 (Wed, 05 Feb 2025) EllapsedTime: 32.0 seconds RetCode: 0 Status: WARNINGS CheckDir: epivizrServer.Rcheck Warnings: 1