Package: epivizrServer Version: 1.35.0 Command: /Library/Frameworks/R.framework/Resources/bin/R CMD build --keep-empty-dirs --no-resave-data epivizrServer StartedAt: 2025-02-10 16:38:58 -0500 (Mon, 10 Feb 2025) EndedAt: 2025-02-10 16:39:06 -0500 (Mon, 10 Feb 2025) EllapsedTime: 8.0 seconds RetCode: 0 Status: OK PackageFile: epivizrServer_1.35.0.tar.gz PackageFileSize: 229.9 KiB