Package: epivizrServer Version: 1.35.0 Command: /Library/Frameworks/R.framework/Resources/bin/R CMD INSTALL epivizrServer StartedAt: 2025-02-05 15:03:12 -0500 (Wed, 05 Feb 2025) EndedAt: 2025-02-05 15:03:17 -0500 (Wed, 05 Feb 2025) EllapsedTime: 5.4 seconds RetCode: 0 Status: OK