Package: epivizrServer Version: 1.35.0 Command: /Library/Frameworks/R.framework/Resources/bin/R CMD build --keep-empty-dirs --no-resave-data epivizrServer StartedAt: 2025-02-05 16:18:19 -0500 (Wed, 05 Feb 2025) EndedAt: 2025-02-05 16:18:22 -0500 (Wed, 05 Feb 2025) EllapsedTime: 3.0 seconds RetCode: 0 Status: OK PackageFile: epivizrServer_1.35.0.tar.gz PackageFileSize: 229.9 KiB